BEGIN:VCALENDAR
PRODID:-//Microsoft Corporation//Outlook 12.0 MIMEDIR//EN
VERSION:2.0
CALSCALE:GREGORIAN
BEGIN:VEVENT
UID: 73162712-1e48-4097-9615-5338b62b6dec
SUMMARY:Talgupäev Avinurme staadionil
DTSTAMP:20260516
DTSTART:20260516
DTEND:20260517
DURATION:P1D
LOCATION:Avinurme staadion
DESCRIPTION: <p>Laupäev, 16. mai kell 10:00 - 18:00</p><p>Avinurme Gümnaasium</p><p>Tule kooli tagasi!<br>16. mai, 2026<br>10.00–18.00, afterparty 19.00–02.00</p><p>Kas oled vahel soovinud tagasi minna kooliaega, põgeneda muretult staadionile, kohtuda oma sõpradega ja lasta elul lihtsalt juhtuda – kasvõi üks kord veel?</p><p>See talgupäev annab sulle selleks võimaluse! Tule ise ja kutsu oma klassikaaslased, taasärata ühised mälestused ja anna koos meie kõigi panus kodukoha heaks!</p><p>Mida talgupäeval teeme?<br>-Korrastame staadioni kaldaid<br>-Teeme heakorra- ja haljastustöid<br>-Kohendame spordiväljakuid<br>-Tööde täpsem jaotus kohapeal</p><p>See talgupäev on I etapp suuremast eesmärgist – kooli staadioni renoveerimine 2029. aastaks, selle 50. sünnipäevaks. Iga osaleja ja iga panus aitab sellele sammukese lähemale.</p><p>Täpsem info ja registreerimine <a href="https://fienta.com/et/talgupaev-avinurme-staadionil"><strong>SIIN</strong></a></p><p><strong>Link: </strong>https://www.avinurme.edu.ee/et/sundmuste-kalender/talgupaev-avinurme-staadionil</p><p><strong>Hind: </strong></p>
STATUS:CONFIRMED
SEQUENCE:3
X-ALT-DESC;FMTTYPE=text/html:<p>Laupäev, 16. mai kell 10:00 - 18:00</p><p>Avinurme Gümnaasium</p><p>Tule kooli tagasi!<br>16. mai, 2026<br>10.00–18.00, afterparty 19.00–02.00</p><p>Kas oled vahel soovinud tagasi minna kooliaega, põgeneda muretult staadionile, kohtuda oma sõpradega ja lasta elul lihtsalt juhtuda – kasvõi üks kord veel?</p><p>See talgupäev annab sulle selleks võimaluse! Tule ise ja kutsu oma klassikaaslased, taasärata ühised mälestused ja anna koos meie kõigi panus kodukoha heaks!</p><p>Mida talgupäeval teeme?<br>-Korrastame staadioni kaldaid<br>-Teeme heakorra- ja haljastustöid<br>-Kohendame spordiväljakuid<br>-Tööde täpsem jaotus kohapeal</p><p>See talgupäev on I etapp suuremast eesmärgist – kooli staadioni renoveerimine 2029. aastaks, selle 50. sünnipäevaks. Iga osaleja ja iga panus aitab sellele sammukese lähemale.</p><p>Täpsem info ja registreerimine <a href="https://fienta.com/et/talgupaev-avinurme-staadionil"><strong>SIIN</strong></a></p><p><strong>Link: </strong>https://www.avinurme.edu.ee/et/sundmuste-kalender/talgupaev-avinurme-staadionil</p><p><strong>Hind: </strong></p>
X-MICROSOFT-CDO-BUSYSTATUS:OOF
X-MICROSOFT-CDO-IMPORTANCE:1
X-MICROSOFT-DISALLOW-COUNTER:FALSE
X-MS-OLK-ALLOWEXTERNCHECK:TRUE
X-MS-OLK-CONFTYPE:0
X-MICROSOFT-CDO-ALLDAYEVENT:1
X-MICROSOFT-MSNCALENDAR-ALLDAYEVENT:1
END:VEVENT
END:VCALENDAR